Workbook

Sheet Gebäude nach Gebäudekategorie
A7: =VLOOKUP("<Fachbereich>",Uebersetzungen!$B$3:$E$107,Uebersetzungen!$B$2+1,FALSE) -> Daten & Statistik
A9: =VLOOKUP("<Titel>",Uebersetzungen!$B$3:$E$37,Uebersetzungen!$B$2+1,FALSE) -> Gebäude nach Gebäudekategorie und Gemeinde, 2025
A10: =VLOOKUP("<UTitel>",Uebersetzungen!$B$3:$E$107,Uebersetzungen!$B$2+1,FALSE) -> (Gemeindestand 2025: 100 Gemeinden)
B13: =VLOOKUP("<SpaltenTitel_0>",Uebersetzungen!$B$3:$E$35,Uebersetzungen!$B$2+1,FALSE) -> Gebäude mit Wohnnutzung
B14: =VLOOKUP("<SpaltenTitel_1>",Uebersetzungen!$B$3:$E$35,Uebersetzungen!$B$2+1,FALSE) -> Total | C14: =VLOOKUP("<SpaltenTitel_2>",Uebersetzungen!$B$3:$E$35,Uebersetzungen!$B$2+1,FALSE) -> Wohngebäude | H14: =VLOOKUP("<SpaltenTitel_3>",Uebersetzungen!$B$3:$E$35,Uebersetzungen!$B$2+1,FALSE) -> Gebäude mit teilweiser Wohnnutzung
C15: =VLOOKUP("<SpaltenTitel_2.1>",Uebersetzungen!$B$3:$E$35,Uebersetzungen!$B$2+1,FALSE) -> Total | D15: =VLOOKUP("<SpaltenTitel_2.2>",Uebersetzungen!$B$3:$E$35,Uebersetzungen!$B$2+1,FALSE) -> Reine Wohngebäude | G15: =VLOOKUP("<SpaltenTitel_2.3>",Uebersetzungen!$B$3:$E$35,Uebersetzungen!$B$2+1,FALSE) -> Wohngebäude mit Nebennutzung
D16: =VLOOKUP("<SpaltenTitel_2.2.1>",Uebersetzungen!$B$3:$E$35,Uebersetzungen!$B$2+1,FALSE) -> Total | E16: =VLOOKUP("<SpaltenTitel_2.2.2>",Uebersetzungen!$B$3:$E$35,Uebersetzungen!$B$2+1,FALSE) -> Einfamilienhäuser | F16: =VLOOKUP("<SpaltenTitel_2.2.3>",Uebersetzungen!$B$3:$E$35,Uebersetzungen!$B$2+1,FALSE) -> Mehrfamilienhäuser
A18: =VLOOKUP("<Zeilentitel_1>",Uebersetzungen!$B$3:$E$107,Uebersetzungen!$B$2+1,FALSE) -> GRAUBÜNDEN | B18: 75586 | C18: 70072 | D18: 62544 | E18: 38054 | F18: 24490 | G18: 7528 | H18: 5514
A19: =VLOOKUP("<Zeilentitel_2>",Uebersetzungen!$B$3:$E$107,Uebersetzungen!$B$2+1,FALSE) -> Region Albula | B19: 6187 | C19: 5676 | D19: 5113 | E19: 3019 | F19: 2094 | G19: 563 | H19: 511
A20: Vaz/Obervaz | B20: 1924 | C20: 1796 | D20: 1695 | E20: 925 | F20: 770 | G20: 101 | H20: 128
A21: Lantsch/Lenz | B21: 376 | C21: 361 | D21: 335 | E21: 138 | F21: 197 | G21: 26 | H21: 15
A22: Schmitten (GR) | B22: 186 | C22: 177 | D22: 170 | E22: 113 | F22: 57 | G22: 7 | H22: 9
A23: Albula/Alvra | B23: 902 | C23: 767 | D23: 665 | E23: 441 | F23: 224 | G23: 102 | H23: 135
A24: Surses | B24: 2009 | C24: 1852 | D24: 1666 | E24: 988 | F24: 678 | G24: 186 | H24: 157
A25: Bergün Filisur | B25: 790 | C25: 723 | D25: 582 | E25: 414 | F25: 168 | G25: 141 | H25: 67
A26: =VLOOKUP("<Zeilentitel_3>",Uebersetzungen!$B$3:$E$107,Uebersetzungen!$B$2+1,FALSE) -> Region Bernina | B26: 2229 | C26: 2075 | D26: 1634 | E26: 994 | F26: 640 | G26: 441 | H26: 154
A27: Brusio | B27: 621 | C27: 590 | D27: 458 | E27: 323 | F27: 135 | G27: 132 | H27: 31
A28: Poschiavo | B28: 1608 | C28: 1485 | D28: 1176 | E28: 671 | F28: 505 | G28: 309 | H28: 123
A29: =VLOOKUP("<Zeilentitel_4>",Uebersetzungen!$B$3:$E$107,Uebersetzungen!$B$2+1,FALSE) -> Region Engiadina Bassa/Val Müstair | B29: 4830 | C29: 4089 | D29: 3518 | E29: 1820 | F29: 1698 | G29: 571 | H29: 741
A30: Zernez | B30: 721 | C30: 511 | D30: 420 | E30: 208 | F30: 212 | G30: 91 | H30: 210
A31: Samnaun | B31: 305 | C31: 245 | D31: 193 | E31: 53 | F31: 140 | G31: 52 | H31: 60
A32: Scuol | B32: 2431 | C32: 2113 | D32: 1906 | E32: 879 | F32: 1027 | G32: 207 | H32: 318
A33: Valsot | B33: 544 | C33: 481 | D33: 389 | E33: 282 | F33: 107 | G33: 92 | H33: 63
A34: Val Müstair | B34: 829 | C34: 739 | D34: 610 | E34: 398 | F34: 212 | G34: 129 | H34: 90
A35: =VLOOKUP("<Zeilentitel_5>",Uebersetzungen!$B$3:$E$107,Uebersetzungen!$B$2+1,FALSE) -> Region Imboden | B35: 6013 | C35: 5783 | D35: 5430 | E35: 3261 | F35: 2169 | G35: 353 | H35: 230
A36: Bonaduz | B36: 783 | C36: 756 | D36: 713 | E36: 475 | F36: 238 | G36: 43 | H36: 27
A37: Domat/Ems | B37: 1578 | C37: 1524 | D37: 1429 | E37: 886 | F37: 543 | G37: 95 | H37: 54
A38: Rhäzüns | B38: 471 | C38: 456 | D38: 441 | E38: 334 | F38: 107 | G38: 15 | H38: 15
A39: Felsberg | B39: 617 | C39: 610 | D39: 582 | E39: 353 | F39: 229 | G39: 28 | H39: 7
A40: Flims | B40: 1420 | C40: 1328 | D40: 1266 | E40: 531 | F40: 735 | G40: 62 | H40: 92
A41: Tamins | B41: 480 | C41: 460 | D41: 403 | E41: 307 | F41: 96 | G41: 57 | H41: 20
A42: Trin | B42: 664 | C42: 649 | D42: 596 | E42: 375 | F42: 221 | G42: 53 | H42: 15
A43: =VLOOKUP("<Zeilentitel_6>",Uebersetzungen!$B$3:$E$107,Uebersetzungen!$B$2+1,FALSE) -> Region Landquart | B43: 6034 | C43: 5748 | D43: 5237 | E43: 3410 | F43: 1827 | G43: 511 | H43: 286
A44: Trimmis | B44: 825 | C44: 788 | D44: 750 | E44: 471 | F44: 279 | G44: 38 | H44: 37
A45: Untervaz | B45: 840 | C45: 787 | D45: 731 | E45: 515 | F45: 216 | G45: 56 | H45: 53
A46: Zizers | B46: 852 | C46: 809 | D46: 717 | E46: 471 | F46: 246 | G46: 92 | H46: 43
A47: Fläsch | B47: 247 | C47: 233 | D47: 205 | E47: 126 | F47: 79 | G47: 28 | H47: 14
A48: Jenins | B48: 281 | C48: 275 | D48: 235 | E48: 147 | F48: 88 | G48: 40 | H48: 6
A49: Maienfeld | B49: 770 | C49: 727 | D49: 618 | E49: 374 | F49: 244 | G49: 109 | H49: 43
A50: Malans | B50: 626 | C50: 604 | D50: 568 | E50: 357 | F50: 211 | G50: 36 | H50: 22
...

Sheet Gebäudekategorie, Bauperiode
A7: =VLOOKUP("<Fachbereich>",Uebersetzungen!$B$3:$E$107,Uebersetzungen!$B$2+1,FALSE) -> Daten & Statistik
A9: =VLOOKUP("<T2Titel>",Uebersetzungen!$B$3:$E$332,Uebersetzungen!$B$2+1,FALSE) -> Gebäude nach Kategorie, Bauperiode und Gemeinde, 2025
A10: =VLOOKUP("<T2UTitel>",Uebersetzungen!$B$3:$E$107,Uebersetzungen!$B$2+1,FALSE) -> (Gemeindestand 2025: 100 Gemeinden)
B13: =VLOOKUP("<T2SpaltenTitel_1>",Uebersetzungen!$B$3:$E$335,Uebersetzungen!$B$2+1,FALSE) -> Gebäude mit Wohnnutzung | C13: =VLOOKUP("<T2SpaltenTitel_2>",Uebersetzungen!$B$3:$E$335,Uebersetzungen!$B$2+1,FALSE) -> Gebäudekategorie | G13: =VLOOKUP("<T2SpaltenTitel_3>",Uebersetzungen!$B$3:$E$420,Uebersetzungen!$B$2+1,FALSE) -> Bauperiode
C14: =VLOOKUP("<T2SpaltenTitel_2.1>",Uebersetzungen!$B$3:$E$335,Uebersetzungen!$B$2+1,FALSE) -> Einfamilienhäuser | D14: =VLOOKUP("<T2SpaltenTitel_2.2>",Uebersetzungen!$B$3:$E$335,Uebersetzungen!$B$2+1,FALSE) -> Mehrfamilienhäuser | E14: =VLOOKUP("<T2SpaltenTitel_2.3>",Uebersetzungen!$B$3:$E$335,Uebersetzungen!$B$2+1,FALSE) -> Wohngebäude mit Nebennutzung | F14: =VLOOKUP("<T2SpaltenTitel_2.4>",Uebersetzungen!$B$3:$E$335,Uebersetzungen!$B$2+1,FALSE) -> Gebäude mit teilweiser Wohnnutzung | G14: =VLOOKUP("<T2SpaltenTitel_3.1>",Uebersetzungen!$B$3:$E$344,Uebersetzungen!$B$2+1,FALSE) -> vor 1946 | H14: =VLOOKUP("<T2SpaltenTitel_3.2>",Uebersetzungen!$B$3:$E$2330,Uebersetzungen!$B$2+1,FALSE) -> 1946-1980 | I14: =VLOOKUP("<T2SpaltenTitel_3.3>",Uebersetzungen!$B$3:$E$344,Uebersetzungen!$B$2+1,FALSE) -> 1981-2000 | J14: =VLOOKUP("<T2SpaltenTitel_3.4>",Uebersetzungen!$B$3:$E$344,Uebersetzungen!$B$2+1,FALSE) -> 2001-2025
A16: =VLOOKUP("<Zeilentitel_1>",Uebersetzungen!$B$3:$E$107,Uebersetzungen!$B$2+1,FALSE) -> GRAUBÜNDEN | B16: 75586 | C16: 38054 | D16: 24490 | E16: 7528 | F16: 5514 | G16: 27003 | H16: 21158 | I16: 15096 | J16: 12329
A17: =VLOOKUP("<Zeilentitel_2>",Uebersetzungen!$B$3:$E$107,Uebersetzungen!$B$2+1,FALSE) -> Region Albula | B17: 6187 | C17: 3019 | D17: 2094 | E17: 563 | F17: 511 | G17: 1968 | H17: 1990 | I17: 1360 | J17: 869
A18: Vaz/Obervaz | B18: 1924 | C18: 925 | D18: 770 | E18: 101 | F18: 128 | G18: 290 | H18: 856 | I18: 449 | J18: 329
A19: Lantsch/Lenz | B19: 376 | C19: 138 | D19: 197 | E19: 26 | F19: 15 | G19: 78 | H19: 114 | I19: 98 | J19: 86
A20: Schmitten (GR) | B20: 186 | C20: 113 | D20: 57 | E20: 7 | F20: 9 | G20: 91 | H20: 51 | I20: 37 | J20: 7
A21: Albula/Alvra | B21: 902 | C21: 441 | D21: 224 | E21: 102 | F21: 135 | G21: 374 | H21: 229 | I21: 202 | J21: 97
A22: Surses | B22: 2009 | C22: 988 | D22: 678 | E22: 186 | F22: 157 | G22: 738 | H22: 522 | I22: 454 | J22: 295
A23: Bergün Filisur | B23: 790 | C23: 414 | D23: 168 | E23: 141 | F23: 67 | G23: 397 | H23: 218 | I23: 120 | J23: 55
A24: =VLOOKUP("<Zeilentitel_3>",Uebersetzungen!$B$3:$E$107,Uebersetzungen!$B$2+1,FALSE) -> Region Bernina | B24: 2229 | C24: 994 | D24: 640 | E24: 441 | F24: 154 | G24: 1171 | H24: 568 | I24: 308 | J24: 182
A25: Brusio | B25: 621 | C25: 323 | D25: 135 | E25: 132 | F25: 31 | G25: 346 | H25: 179 | I25: 62 | J25: 34
A26: Poschiavo | B26: 1608 | C26: 671 | D26: 505 | E26: 309 | F26: 123 | G26: 825 | H26: 389 | I26: 246 | J26: 148
A27: =VLOOKUP("<Zeilentitel_4>",Uebersetzungen!$B$3:$E$107,Uebersetzungen!$B$2+1,FALSE) -> Region Engiadina Bassa/Val Müstair | B27: 4830 | C27: 1820 | D27: 1698 | E27: 571 | F27: 741 | G27: 2157 | H27: 1200 | I27: 792 | J27: 681
A28: Zernez | B28: 721 | C28: 208 | D28: 212 | E28: 91 | F28: 210 | G28: 244 | H28: 310 | I28: 72 | J28: 95
A29: Samnaun | B29: 305 | C29: 53 | D29: 140 | E29: 52 | F29: 60 | G29: 50 | H29: 76 | I29: 126 | J29: 53
A30: Scuol | B30: 2431 | C30: 879 | D30: 1027 | E30: 207 | F30: 318 | G30: 1138 | H30: 526 | I30: 400 | J30: 367
A31: Valsot | B31: 544 | C31: 282 | D31: 107 | E31: 92 | F31: 63 | G31: 332 | H31: 111 | I31: 37 | J31: 64
A32: Val Müstair | B32: 829 | C32: 398 | D32: 212 | E32: 129 | F32: 90 | G32: 393 | H32: 177 | I32: 157 | J32: 102
A33: =VLOOKUP("<Zeilentitel_5>",Uebersetzungen!$B$3:$E$107,Uebersetzungen!$B$2+1,FALSE) -> Region Imboden | B33: 6013 | C33: 3261 | D33: 2169 | E33: 353 | F33: 230 | G33: 1206 | H33: 1910 | I33: 1337 | J33: 1560
A34: Bonaduz | B34: 783 | C34: 475 | D34: 238 | E34: 43 | F34: 27 | G34: 125 | H34: 176 | I34: 217 | J34: 265
A35: Domat/Ems | B35: 1578 | C35: 886 | D35: 543 | E35: 95 | F35: 54 | G35: 203 | H35: 552 | I35: 366 | J35: 457
A36: Rhäzüns | B36: 471 | C36: 334 | D36: 107 | E36: 15 | F36: 15 | G36: 117 | H36: 109 | I36: 98 | J36: 147
A37: Felsberg | B37: 617 | C37: 353 | D37: 229 | E37: 28 | F37: 7 | G37: 112 | H37: 163 | I37: 161 | J37: 181
A38: Flims | B38: 1420 | C38: 531 | D38: 735 | E38: 62 | F38: 92 | G38: 230 | H38: 602 | I38: 307 | J38: 281
A39: Tamins | B39: 480 | C39: 307 | D39: 96 | E39: 57 | F39: 20 | G39: 200 | H39: 142 | I39: 78 | J39: 60
A40: Trin | B40: 664 | C40: 375 | D40: 221 | E40: 53 | F40: 15 | G40: 219 | H40: 166 | I40: 110 | J40: 169
A41: =VLOOKUP("<Zeilentitel_6>",Uebersetzungen!$B$3:$E$107,Uebersetzungen!$B$2+1,FALSE) -> Region Landquart | B41: 6034 | C41: 3410 | D41: 1827 | E41: 511 | F41: 286 | G41: 1401 | H41: 1459 | I41: 1821 | J41: 1353
A42: Trimmis | B42: 825 | C42: 471 | D42: 279 | E42: 38 | F42: 37 | G42: 156 | H42: 221 | I42: 290 | J42: 158
A43: Untervaz | B43: 840 | C43: 515 | D43: 216 | E43: 56 | F43: 53 | G43: 251 | H43: 169 | I43: 212 | J43: 208
A44: Zizers | B44: 852 | C44: 471 | D44: 246 | E44: 92 | F44: 43 | G44: 125 | H44: 279 | I44: 255 | J44: 193
A45: Fläsch | B45: 247 | C45: 126 | D45: 79 | E45: 28 | F45: 14 | G45: 74 | H45: 30 | I45: 67 | J45: 76
A46: Jenins | B46: 281 | C46: 147 | D46: 88 | E46: 40 | F46: 6 | G46: 85 | H46: 64 | I46: 68 | J46: 64
A47: Maienfeld | B47: 770 | C47: 374 | D47: 244 | E47: 109 | F47: 43 | G47: 249 | H47: 133 | I47: 205 | J47: 183
A48: Malans | B48: 626 | C48: 357 | D48: 211 | E48: 36 | F48: 22 | G48: 177 | H48: 152 | I48: 166 | J48: 131
A49: Landquart | B49: 1593 | C49: 949 | D49: 464 | E49: 112 | F49: 68 | G49: 284 | H49: 411 | I49: 558 | J49: 340
A50: =VLOOKUP("<Zeilentitel_7>",Uebersetzungen!$B$3:$E$107,Uebersetzungen!$B$2+1,FALSE) -> Region Maloja | B50: 6125 | C50: 2150 | D50: 2794 | E50: 591 | F50: 590 | G50: 2081 | H50: 1831 | I50: 1223 | J50: 990
...

Sheet Uebersetzungen
A1: Tabelle | B1: Code | C1: DE | D1: RM | E1: IT
A2: Sprache | B2: 1
B3: <Fachbereich> | C3: Daten & Statistik | D3: Datas & Statistica | E3: Dati & Statistica
A4: T1 | B4: <Titel> | C4: Gebäude nach Gebäudekategorie und Gemeinde, 2025 | D4: Edifizis tenor categoria da l'edifizi e vischnanca, 2025 | E4: Edifici secondo la categoria dell'edificio e comune, 2025
B5: <UTitel> | C5: (Gemeindestand 2025: 100 Gemeinden) | D5: (stadi communal 2025: 100 vischnancas) | E5: (stato dei comuni 2025: 100 comuni)
B7: <SpaltenTitel_0> | C7: Gebäude mit Wohnnutzung | D7: Edifizis cun utilisaziun per intents d'abitar | E7: Edifici ad uso abitativo
A8: T1-2 | B8: <SpaltenTitel_1> | C8: Total | D8: Total | E8: Totale
B9: <SpaltenTitel_2> | C9: Wohngebäude | D9: Edifizis cun utilisaziun per intents d'abitar | E9: Edifici ad uso abitativo
B10: <SpaltenTitel_3> | C10: Gebäude mit teilweiser Wohnnutzung | D10: Edifizis che utiliseschan per part l' abitaziun | E10: Edifici ad uso parzialmente abitativo
B12: <SpaltenTitel_2.1> | C12: Total | D12: Total | E12: Totale
B13: <SpaltenTitel_2.2> | C13: Reine Wohngebäude | D13: Edifizis cun utilisaziun per intents d'abitar puras | E13: Edifici ad uso unicamente abitativo
B14: <SpaltenTitel_2.2.1> | C14: Total | D14: Total | E14: Totale
B15: <SpaltenTitel_2.2.2> | C15: Einfamilienhäuser | D15: Chasas d'ina famiglia | E15: Case unifamiliari
B16: <SpaltenTitel_2.2.3> | C16: Mehrfamilienhäuser | D16: Chasas da pliras famiglias | E16: Case plurifamiliari
B17: <SpaltenTitel_2.3> | C17: Wohngebäude mit Nebennutzung | D17: Edifizi d'abitar cun utilisaziun secundara | E17: Edifici con utilizzazione accessoria
A19: T1 | B19: <Zeilentitel_1> | C19: GRAUBÜNDEN | D19: GRISCHUN | E19: GRIGIONI
B20: <Zeilentitel_2> | C20: Region Albula | D20: Regiun Alvra | E20: Regione Albula
B21: <Zeilentitel_3> | C21: Region Bernina | D21: Regiun Bernina | E21: Regione Bernina
B22: <Zeilentitel_4> | C22: Region Engiadina Bassa/Val Müstair | D22: Regiun Engiadina Bassa/Val Müstair | E22: Regione Engiadina Bassa/Val Müstair
B23: <Zeilentitel_5> | C23: Region Imboden | D23: Regiun Plaun | E23: Regione Imboden
B24: <Zeilentitel_6> | C24: Region Landquart | D24: Regiun Landquart | E24: Regione Landquart
B25: <Zeilentitel_7> | C25: Region Maloja | D25: Regiun Malögia | E25: Regione Maloja
B26: <Zeilentitel_8> | C26: Region Moesa | D26: Regiun Moesa | E26: Regione Moesa
B27: <Zeilentitel_9> | C27: Region Plessur | D27: Regiun Plessur | E27: Regione Plessur
B28: <Zeilentitel_10> | C28: Region Prättigau/Davos | D28: Regiun Partenz/Tavau | E28: Regione Prättigau/Davos
B29: <Zeilentitel_11> | C29: Region Surselva | D29: Regiun Surselva | E29: Regione Surselva
B30: <Zeilentitel_12> | C30: Region Viamala | D30: Regiun Viamala | E30: Regione Viamala
B32: <Legende_1> | C32: Um die Auswertung der Daten zu erleichtern, wurden fehlende Werte in der GWS statistisch eingesetzt. Bei kleinräumigen Auswertungen kann deshalb nicht ausgeschlossen werden, dass diese Ergänzungen zu Verzerrungen führen. Kleinräumige Analysen sind demzufolge mit Vorsicht zu interpretieren. | D32: Per facilitar l'evaluaziun da las datas s'ha la statistica applitgada en il SEA valurs che mancan. En cas d'evaluaziuns cun pitschens spazis na pon ins perquai betg excluder che questas cumplettaziuns chaschunian sfalsificaziuns. Analisas pitschnas ston perquai vegnir interpretadas cun precauziun. | E32: Per facilitare l'interpretazione dei dati, i valori mancanti sono stati utilizzati statisticamente nella SEA. Pertanto, nel caso di valutazioni su scala ridotta, non si può escludere che tali aggiunte possano comportare distorsioni. Pertanto, le analisi su scala ridotta devono essere interpretate con cautela.
B33: <Legende_2>
A35: T1-2 | B35: <Quelle_1> | C35: Quelle: BFS (Gebäude- und Wohnungsstatistik) | D35: Funtauna: UST (Statistica dals edifizis e da las abitaziuns) | E35: Fonte: UST (Statistica degli edifici e delle abitazioni)
A36: T1 | B36: <Aktualisierung> | C36: Letztmals aktualisiert am: 15.09.2026 | D36: Ultima actualisaziun: 15.09.2026 | E36: Ultimo aggiornamento: 15.09.2026
A39: T2 | B39: <T2Titel> | C39: Gebäude nach Kategorie, Bauperiode und Gemeinde, 2025 | D39: Edifizis tenor categoria, perioda da construcziun e vischnanca, 2025 | E39: Edifici secondo la categoria, l'epoca di costruzione e comune, 2025
B40: <T2UTitel> | C40: (Gemeindestand 2025: 100 Gemeinden) | D40: (stadi communal 2025: 100 vischnancas) | E40: (stato dei comuni 2025: 100 comuni)
B43: <T2SpaltenTitel_1> | C43: Gebäude mit Wohnnutzung | D43: Edifizis cun utilisaziun per intents d'abitar | E43: Edifici ad uso abitativo
A44: T1-2 | B44: <T2SpaltenTitel_2> | C44: Gebäudekategorie | D44: Categoria da l'edifizi | E44: Categoria dell'edificio
B45: <T2SpaltenTitel_3> | C45: Bauperiode | D45: Perioda da construcziun | E45: Epoca di costruzione
B47: <T2SpaltenTitel_2.1> | C47: Einfamilienhäuser | D47: Chasas d'ina famiglia | E47: Case unifamiliari
B48: <T2SpaltenTitel_2.2> | C48: Mehrfamilienhäuser | D48: Chasas da pliras famiglias | E48: Case plurifamiliari
B49: <T2SpaltenTitel_2.3> | C49: Wohngebäude mit Nebennutzung | D49: Edifizi d'abitar cun utilisaziun secundara | E49: Edifici con utilizzazione accessoria
B50: <T2SpaltenTitel_2.4> | C50: Gebäude mit teilweiser Wohnnutzung | D50: Edifizis che utiliseschan per part l' abitaziun | E50: Edifici ad uso parzialmente abitativo
...
