Workbook

Sheet Gebäude nach Gebäudekategorie
A7: =VLOOKUP("<Fachbereich>",Uebersetzungen!$B$3:$E$107,Uebersetzungen!$B$2+1,FALSE) -> Daten & Statistik
A9: =VLOOKUP("<Titel>",Uebersetzungen!$B$3:$E$37,Uebersetzungen!$B$2+1,FALSE) -> Gebäude nach Gebäudekategorie und Gemeinde, 2025
A10: =VLOOKUP("<UTitel>",Uebersetzungen!$B$3:$E$107,Uebersetzungen!$B$2+1,FALSE) -> (Gemeindestand 2025: 100 Gemeinden)
B13: =VLOOKUP("<SpaltenTitel_0>",Uebersetzungen!$B$3:$E$35,Uebersetzungen!$B$2+1,FALSE) -> Gebäude mit Wohnnutzung
B14: =VLOOKUP("<SpaltenTitel_1>",Uebersetzungen!$B$3:$E$35,Uebersetzungen!$B$2+1,FALSE) -> Total | C14: =VLOOKUP("<SpaltenTitel_2>",Uebersetzungen!$B$3:$E$35,Uebersetzungen!$B$2+1,FALSE) -> Wohngebäude | H14: =VLOOKUP("<SpaltenTitel_3>",Uebersetzungen!$B$3:$E$35,Uebersetzungen!$B$2+1,FALSE) -> Gebäude mit teilweiser Wohnnutzung
C15: =VLOOKUP("<SpaltenTitel_2.1>",Uebersetzungen!$B$3:$E$35,Uebersetzungen!$B$2+1,FALSE) -> Total | D15: =VLOOKUP("<SpaltenTitel_2.2>",Uebersetzungen!$B$3:$E$35,Uebersetzungen!$B$2+1,FALSE) -> Reine Wohngebäude | G15: =VLOOKUP("<SpaltenTitel_2.3>",Uebersetzungen!$B$3:$E$35,Uebersetzungen!$B$2+1,FALSE) -> Wohngebäude mit Nebennutzung
D16: =VLOOKUP("<SpaltenTitel_2.2.1>",Uebersetzungen!$B$3:$E$35,Uebersetzungen!$B$2+1,FALSE) -> Total | E16: =VLOOKUP("<SpaltenTitel_2.2.2>",Uebersetzungen!$B$3:$E$35,Uebersetzungen!$B$2+1,FALSE) -> Einfamilienhäuser | F16: =VLOOKUP("<SpaltenTitel_2.2.3>",Uebersetzungen!$B$3:$E$35,Uebersetzungen!$B$2+1,FALSE) -> Mehrfamilienhäuser
A18: =VLOOKUP("<Zeilentitel_1>",Uebersetzungen!$B$3:$E$107,Uebersetzungen!$B$2+1,FALSE) -> GRAUBÜNDEN | B18: 75586 | C18: 70072 | D18: 62544 | E18: 38054 | F18: 24490 | G18: 7528 | H18: 5514
A19: =VLOOKUP("<Zeilentitel_2>",Uebersetzungen!$B$3:$E$107,Uebersetzungen!$B$2+1,FALSE) -> Region Albula | B19: 6187 | C19: 5676 | D19: 5113 | E19: 3019 | F19: 2094 | G19: 563 | H19: 511
A20: Vaz/Obervaz | B20: 1924 | C20: 1796 | D20: 1695 | E20: 925 | F20: 770 | G20: 101 | H20: 128
A21: Lantsch/Lenz | B21: 376 | C21: 361 | D21: 335 | E21: 138 | F21: 197 | G21: 26 | H21: 15
A22: Schmitten (GR) | B22: 186 | C22: 177 | D22: 170 | E22: 113 | F22: 57 | G22: 7 | H22: 9
A23: Albula/Alvra | B23: 902 | C23: 767 | D23: 665 | E23: 441 | F23: 224 | G23: 102 | H23: 135
A24: Surses | B24: 2009 | C24: 1852 | D24: 1666 | E24: 988 | F24: 678 | G24: 186 | H24: 157
A25: Bergün Filisur | B25: 790 | C25: 723 | D25: 582 | E25: 414 | F25: 168 | G25: 141 | H25: 67
A26: =VLOOKUP("<Zeilentitel_3>",Uebersetzungen!$B$3:$E$107,Uebersetzungen!$B$2+1,FALSE) -> Region Bernina | B26: 2229 | C26: 2075 | D26: 1634 | E26: 994 | F26: 640 | G26: 441 | H26: 154
A27: Brusio | B27: 621 | C27: 590 | D27: 458 | E27: 323 | F27: 135 | G27: 132 | H27: 31
A28: Poschiavo | B28: 1608 | C28: 1485 | D28: 1176 | E28: 671 | F28: 505 | G28: 309 | H28: 123
A29: =VLOOKUP("<Zeilentitel_4>",Uebersetzungen!$B$3:$E$107,Uebersetzungen!$B$2+1,FALSE) -> Region Engiadina Bassa/Val Müstair | B29: 4830 | C29: 4089 | D29: 3518 | E29: 1820 | F29: 1698 | G29: 571 | H29: 741
A30: Zernez | B30: 721 | C30: 511 | D30: 420 | E30: 208 | F30: 212 | G30: 91 | H30: 210
A31: Samnaun | B31: 305 | C31: 245 | D31: 193 | E31: 53 | F31: 140 | G31: 52 | H31: 60
A32: Scuol | B32: 2431 | C32: 2113 | D32: 1906 | E32: 879 | F32: 1027 | G32: 207 | H32: 318
A33: Valsot | B33: 544 | C33: 481 | D33: 389 | E33: 282 | F33: 107 | G33: 92 | H33: 63
A34: Val Müstair | B34: 829 | C34: 739 | D34: 610 | E34: 398 | F34: 212 | G34: 129 | H34: 90
A35: =VLOOKUP("<Zeilentitel_5>",Uebersetzungen!$B$3:$E$107,Uebersetzungen!$B$2+1,FALSE) -> Region Imboden | B35: 6013 | C35: 5783 | D35: 5430 | E35: 3261 | F35: 2169 | G35: 353 | H35: 230
A36: Bonaduz | B36: 783 | C36: 756 | D36: 713 | E36: 475 | F36: 238 | G36: 43 | H36: 27
A37: Domat/Ems | B37: 1578 | C37: 1524 | D37: 1429 | E37: 886 | F37: 543 | G37: 95 | H37: 54
A38: Rhäzüns | B38: 471 | C38: 456 | D38: 441 | E38: 334 | F38: 107 | G38: 15 | H38: 15
A39: Felsberg | B39: 617 | C39: 610 | D39: 582 | E39: 353 | F39: 229 | G39: 28 | H39: 7
A40: Flims | B40: 1420 | C40: 1328 | D40: 1266 | E40: 531 | F40: 735 | G40: 62 | H40: 92
A41: Tamins | B41: 480 | C41: 460 | D41: 403 | E41: 307 | F41: 96 | G41: 57 | H41: 20
A42: Trin | B42: 664 | C42: 649 | D42: 596 | E42: 375 | F42: 221 | G42: 53 | H42: 15
A43: =VLOOKUP("<Zeilentitel_6>",Uebersetzungen!$B$3:$E$107,Uebersetzungen!$B$2+1,FALSE) -> Region Landquart | B43: 6034 | C43: 5748 | D43: 5237 | E43: 3410 | F43: 1827 | G43: 511 | H43: 286
A44: Trimmis | B44: 825 | C44: 788 | D44: 750 | E44: 471 | F44: 279 | G44: 38 | H44: 37
A45: Untervaz | B45: 840 | C45: 787 | D45: 731 | E45: 515 | F45: 216 | G45: 56 | H45: 53
A46: Zizers | B46: 852 | C46: 809 | D46: 717 | E46: 471 | F46: 246 | G46: 92 | H46: 43
A47: Fläsch | B47: 247 | C47: 233 | D47: 205 | E47: 126 | F47: 79 | G47: 28 | H47: 14
A48: Jenins | B48: 281 | C48: 275 | D48: 235 | E48: 147 | F48: 88 | G48: 40 | H48: 6
A49: Maienfeld | B49: 770 | C49: 727 | D49: 618 | E49: 374 | F49: 244 | G49: 109 | H49: 43
A50: Malans | B50: 626 | C50: 604 | D50: 568 | E50: 357 | F50: 211 | G50: 36 | H50: 22
A51: Landquart | B51: 1593 | C51: 1525 | D51: 1413 | E51: 949 | F51: 464 | G51: 112 | H51: 68
A52: =VLOOKUP("<Zeilentitel_7>",Uebersetzungen!$B$3:$E$107,Uebersetzungen!$B$2+1,FALSE) -> Region Maloja | B52: 6125 | C52: 5535 | D52: 4944 | E52: 2150 | F52: 2794 | G52: 591 | H52: 590
A53: Bever | B53: 215 | C53: 189 | D53: 169 | E53: 71 | F53: 98 | G53: 20 | H53: 26
A54: Celerina/Schlarigna | B54: 491 | C54: 445 | D54: 403 | E54: 71 | F54: 332 | G54: 42 | H54: 46
A55: Madulain | B55: 114 | C55: 103 | D55: 93 | E55: 33 | F55: 60 | G55: 10 | H55: 11
A56: Pontresina | B56: 537 | C56: 492 | D56: 428 | E56: 102 | F56: 326 | G56: 64 | H56: 45
A57: La Punt Chamues-ch | B57: 342 | C57: 324 | D57: 295 | E57: 109 | F57: 186 | G57: 29 | H57: 18
A58: Samedan | B58: 609 | C58: 536 | D58: 492 | E58: 110 | F58: 382 | G58: 44 | H58: 73
A59: St. Moritz | B59: 933 | C59: 809 | D59: 681 | E59: 244 | F59: 437 | G59: 128 | H59: 124
A60: S-chanf | B60: 320 | C60: 295 | D60: 249 | E60: 144 | F60: 105 | G60: 46 | H60: 25
A61: Sils im Engadin/Segl | B61: 346 | C61: 292 | D61: 255 | E61: 125 | F61: 130 | G61: 37 | H61: 54
A62: Silvaplana | B62: 416 | C62: 389 | D62: 355 | E62: 98 | F62: 257 | G62: 34 | H62: 27
A63: Zuoz | B63: 415 | C63: 376 | D63: 318 | E63: 92 | F63: 226 | G63: 58 | H63: 39
A64: Bregaglia | B64: 1387 | C64: 1285 | D64: 1206 | E64: 951 | F64: 255 | G64: 79 | H64: 102
A65: =VLOOKUP("<Zeilentitel_8>",Uebersetzungen!$B$3:$E$107,Uebersetzungen!$B$2+1,FALSE) -> Region Moesa | B65: 5963 | C65: 5677 | D65: 5412 | E65: 4518 | F65: 894 | G65: 265 | H65: 286
A66: Buseno | B66: 191 | C66: 150 | D66: 141 | E66: 134 | F66: 7 | G66: 9 | H66: 41
A67: Castaneda | B67: 192 | C67: 188 | D67: 185 | E67: 154 | F67: 31 | G67: 3 | H67: 4
A68: Rossa | B68: 333 | C68: 318 | D68: 308 | E68: 294 | F68: 14 | G68: 10 | H68: 15
A69: Santa Maria in Calanca | B69: 226 | C69: 213 | D69: 199 | E69: 191 | F69: 8 | G69: 14 | H69: 13
A70: Lostallo | B70: 388 | C70: 364 | D70: 351 | E70: 273 | F70: 78 | G70: 13 | H70: 24
A71: Mesocco | B71: 1320 | C71: 1270 | D71: 1207 | E71: 1006 | F71: 201 | G71: 63 | H71: 50
A72: Soazza | B72: 235 | C72: 220 | D72: 214 | E72: 165 | F72: 49 | G72: 6 | H72: 15
A73: Cama | B73: 329 | C73: 315 | D73: 309 | E73: 251 | F73: 58 | G73: 6 | H73: 14
A74: Grono | B74: 616 | C74: 588 | D74: 541 | E74: 425 | F74: 116 | G74: 47 | H74: 28
A75: Roveredo (GR) | B75: 1218 | C75: 1172 | D75: 1125 | E75: 901 | F75: 224 | G75: 47 | H75: 46
A76: San Vittore | B76: 411 | C76: 389 | D76: 363 | E76: 269 | F76: 94 | G76: 26 | H76: 22
A77: Calanca | B77: 504 | C77: 490 | D77: 469 | E77: 455 | F77: 14 | G77: 21 | H77: 14
A78: =VLOOKUP("<Zeilentitel_9>",Uebersetzungen!$B$3:$E$107,Uebersetzungen!$B$2+1,FALSE) -> Region Plessur | B78: 8522 | C78: 7838 | D78: 7210 | E78: 4070 | F78: 3140 | G78: 628 | H78: 684
A79: Chur | B79: 5069 | C79: 4782 | D79: 4415 | E79: 2248 | F79: 2167 | G79: 367 | H79: 287
A80: Churwalden | B80: 1376 | C80: 1273 | D80: 1169 | E80: 804 | F80: 365 | G80: 104 | H80: 103
A81: Arosa | B81: 2077 | C81: 1783 | D81: 1626 | E81: 1018 | F81: 608 | G81: 157 | H81: 294
A82: =VLOOKUP("<Zeilentitel_10>",Uebersetzungen!$B$3:$E$107,Uebersetzungen!$B$2+1,FALSE) -> Region Prättigau/Davos | B82: 11264 | C82: 10462 | D82: 8964 | E82: 5587 | F82: 3377 | G82: 1498 | H82: 802
A83: Davos | B83: 3008 | C83: 2753 | D83: 2447 | E83: 1047 | F83: 1400 | G83: 306 | H83: 255
A84: Fideris | B84: 505 | C84: 397 | D84: 327 | E84: 267 | F84: 60 | G84: 70 | H84: 108
A85: Furna | B85: 242 | C85: 175 | D85: 145 | E85: 130 | F85: 15 | G85: 30 | H85: 67
A86: Jenaz | B86: 530 | C86: 502 | D86: 373 | E86: 266 | F86: 107 | G86: 129 | H86: 28
A87: Klosters | B87: 2410 | C87: 2279 | D87: 2035 | E87: 1070 | F87: 965 | G87: 244 | H87: 131
A88: Conters im Prättigau | B88: 181 | C88: 170 | D88: 156 | E88: 123 | F88: 33 | G88: 14 | H88: 11
A89: Küblis | B89: 371 | C89: 357 | D89: 304 | E89: 223 | F89: 81 | G89: 53 | H89: 14
A90: Luzein | B90: 1217 | C90: 1174 | D90: 878 | E90: 707 | F90: 171 | G90: 296 | H90: 43
A91: Grüsch | B91: 1024 | C91: 965 | D91: 854 | E91: 671 | F91: 183 | G91: 111 | H91: 59
A92: Schiers | B92: 1064 | C92: 1001 | D92: 873 | E92: 648 | F92: 225 | G92: 128 | H92: 63
A93: Seewis im Prättigau | B93: 712 | C93: 689 | D93: 572 | E93: 435 | F93: 137 | G93: 117 | H93: 23
A94: =VLOOKUP("<Zeilentitel_11>",Uebersetzungen!$B$3:$E$107,Uebersetzungen!$B$2+1,FALSE) -> Region Surselva | B94: 12295 | C94: 11663 | D94: 10270 | E94: 5866 | F94: 4404 | G94: 1393 | H94: 632
A95: Falera | B95: 429 | C95: 418 | D95: 397 | E95: 111 | F95: 286 | G95: 21 | H95: 11
A96: Laax | B96: 936 | C96: 915 | D96: 836 | E96: 326 | F96: 510 | G96: 79 | H96: 21
A97: Sagogn | B97: 355 | C97: 351 | D97: 332 | E97: 171 | F97: 161 | G97: 19 | H97: 4
A98: Schluein | B98: 244 | C98: 233 | D98: 213 | E98: 93 | F98: 120 | G98: 20 | H98: 11
A99: Vals | B99: 371 | C99: 343 | D99: 300 | E99: 125 | F99: 175 | G99: 43 | H99: 28
A100: Lumnezia | B100: 1411 | C100: 1366 | D100: 1201 | E100: 663 | F100: 538 | G100: 165 | H100: 45
A101: Ilanz/Glion | B101: 1846 | C101: 1727 | D101: 1525 | E101: 973 | F101: 552 | G101: 202 | H101: 119
A102: Safiental | B102: 625 | C102: 543 | D102: 428 | E102: 341 | F102: 87 | G102: 115 | H102: 82
A103: Breil/Brigels | B103: 1366 | C103: 1299 | D103: 1139 | E103: 737 | F103: 402 | G103: 160 | H103: 67
A104: Disentis/Mustér | B104: 974 | C104: 937 | D104: 768 | E104: 445 | F104: 323 | G104: 169 | H104: 37
A105: Medel (Lucmagn) | B105: 362 | C105: 348 | D105: 286 | E105: 237 | F105: 49 | G105: 62 | H105: 14
A106: Sumvitg | B106: 718 | C106: 686 | D106: 560 | E106: 395 | F106: 165 | G106: 126 | H106: 32
... A109: Obersaxen Mundaun | B109: 1198 | C109: 1122 | D109: 1042 | E109: 566 | F109: 476 | G109: 80 | H109: 76
A110: =VLOOKUP("<Zeilentitel_12>",Uebersetzungen!$B$3:$E$107,Uebersetzungen!$B$2+1,FALSE) -> Region Viamala | B110: 6124 | C110: 5526 | D110: 4812 | E110: 3359 | F110: 1453 | G110: 714 | H110: 598
A111: Fürstenau | B111: 124 | C111: 118 | D111: 110 | E111: 75 | F111: 35 | G111: 8 | H111: 6
A112: Rothenbrunnen | B112: 107 | C112: 96 | D112: 82 | E112: 63 | F112: 19 | G112: 14 | H112: 11
...

Sheet Gebäudekategorie, Bauperiode
A7: =VLOOKUP("<Fachbereich>",Uebersetzungen!$B$3:$E$107,Uebersetzungen!$B$2+1,FALSE) -> Daten & Statistik
A9: =VLOOKUP("<T2Titel>",Uebersetzungen!$B$3:$E$332,Uebersetzungen!$B$2+1,FALSE) -> Gebäude nach Kategorie, Bauperiode und Gemeinde, 2025
A10: =VLOOKUP("<T2UTitel>",Uebersetzungen!$B$3:$E$107,Uebersetzungen!$B$2+1,FALSE) -> (Gemeindestand 2025: 100 Gemeinden)
B13: =VLOOKUP("<T2SpaltenTitel_1>",Uebersetzungen!$B$3:$E$335,Uebersetzungen!$B$2+1,FALSE) -> Gebäude mit Wohnnutzung | C13: =VLOOKUP("<T2SpaltenTitel_2>",Uebersetzungen!$B$3:$E$335,Uebersetzungen!$B$2+1,FALSE) -> Gebäudekategorie | G13: =VLOOKUP("<T2SpaltenTitel_3>",Uebersetzungen!$B$3:$E$420,Uebersetzungen!$B$2+1,FALSE) -> Bauperiode
C14: =VLOOKUP("<T2SpaltenTitel_2.1>",Uebersetzungen!$B$3:$E$335,Uebersetzungen!$B$2+1,FALSE) -> Einfamilienhäuser | D14: =VLOOKUP("<T2SpaltenTitel_2.2>",Uebersetzungen!$B$3:$E$335,Uebersetzungen!$B$2+1,FALSE) -> Mehrfamilienhäuser | E14: =VLOOKUP("<T2SpaltenTitel_2.3>",Uebersetzungen!$B$3:$E$335,Uebersetzungen!$B$2+1,FALSE) -> Wohngebäude mit Nebennutzung | F14: =VLOOKUP("<T2SpaltenTitel_2.4>",Uebersetzungen!$B$3:$E$335,Uebersetzungen!$B$2+1,FALSE) -> Gebäude mit teilweiser Wohnnutzung | G14: =VLOOKUP("<T2SpaltenTitel_3.1>",Uebersetzungen!$B$3:$E$344,Uebersetzungen!$B$2+1,FALSE) -> vor 1946 | H14: =VLOOKUP("<T2SpaltenTitel_3.2>",Uebersetzungen!$B$3:$E$2330,Uebersetzungen!$B$2+1,FALSE) -> 1946-1980 | I14: =VLOOKUP("<T2SpaltenTitel_3.3>",Uebersetzungen!$B$3:$E$344,Uebersetzungen!$B$2+1,FALSE) -> 1981-2000 | J14: =VLOOKUP("<T2SpaltenTitel_3.4>",Uebersetzungen!$B$3:$E$344,Uebersetzungen!$B$2+1,FALSE) -> 2001-2025
A16: =VLOOKUP("<Zeilentitel_1>",Uebersetzungen!$B$3:$E$107,Uebersetzungen!$B$2+1,FALSE) -> GRAUBÜNDEN | B16: 75586 | C16: 38054 | D16: 24490 | E16: 7528 | F16: 5514 | G16: 27003 | H16: 21158 | I16: 15096 | J16: 12329
A17: =VLOOKUP("<Zeilentitel_2>",Uebersetzungen!$B$3:$E$107,Uebersetzungen!$B$2+1,FALSE) -> Region Albula | B17: 6187 | C17: 3019 | D17: 2094 | E17: 563 | F17: 511 | G17: 1968 | H17: 1990 | I17: 1360 | J17: 869
A18: Vaz/Obervaz | B18: 1924 | C18: 925 | D18: 770 | E18: 101 | F18: 128 | G18: 290 | H18: 856 | I18: 449 | J18: 329
A19: Lantsch/Lenz | B19: 376 | C19: 138 | D19: 197 | E19: 26 | F19: 15 | G19: 78 | H19: 114 | I19: 98 | J19: 86
A20: Schmitten (GR) | B20: 186 | C20: 113 | D20: 57 | E20: 7 | F20: 9 | G20: 91 | H20: 51 | I20: 37 | J20: 7
A21: Albula/Alvra | B21: 902 | C21: 441 | D21: 224 | E21: 102 | F21: 135 | G21: 374 | H21: 229 | I21: 202 | J21: 97
A22: Surses | B22: 2009 | C22: 988 | D22: 678 | E22: 186 | F22: 157 | G22: 738 | H22: 522 | I22: 454 | J22: 295
A23: Bergün Filisur | B23: 790 | C23: 414 | D23: 168 | E23: 141 | F23: 67 | G23: 397 | H23: 218 | I23: 120 | J23: 55
A24: =VLOOKUP("<Zeilentitel_3>",Uebersetzungen!$B$3:$E$107,Uebersetzungen!$B$2+1,FALSE) -> Region Bernina | B24: 2229 | C24: 994 | D24: 640 | E24: 441 | F24: 154 | G24: 1171 | H24: 568 | I24: 308 | J24: 182
A25: Brusio | B25: 621 | C25: 323 | D25: 135 | E25: 132 | F25: 31 | G25: 346 | H25: 179 | I25: 62 | J25: 34
A26: Poschiavo | B26: 1608 | C26: 671 | D26: 505 | E26: 309 | F26: 123 | G26: 825 | H26: 389 | I26: 246 | J26: 148
A27: =VLOOKUP("<Zeilentitel_4>",Uebersetzungen!$B$3:$E$107,Uebersetzungen!$B$2+1,FALSE) -> Region Engiadina Bassa/Val Müstair | B27: 4830 | C27: 1820 | D27: 1698 | E27: 571 | F27: 741 | G27: 2157 | H27: 1200 | I27: 792 | J27: 681
A28: Zernez | B28: 721 | C28: 208 | D28: 212 | E28: 91 | F28: 210 | G28: 244 | H28: 310 | I28: 72 | J28: 95
A29: Samnaun | B29: 305 | C29: 53 | D29: 140 | E29: 52 | F29: 60 | G29: 50 | H29: 76 | I29: 126 | J29: 53
A30: Scuol | B30: 2431 | C30: 879 | D30: 1027 | E30: 207 | F30: 318 | G30: 1138 | H30: 526 | I30: 400 | J30: 367
A31: Valsot | B31: 544 | C31: 282 | D31: 107 | E31: 92 | F31: 63 | G31: 332 | H31: 111 | I31: 37 | J31: 64
A32: Val Müstair | B32: 829 | C32: 398 | D32: 212 | E32: 129 | F32: 90 | G32: 393 | H32: 177 | I32: 157 | J32: 102
A33: =VLOOKUP("<Zeilentitel_5>",Uebersetzungen!$B$3:$E$107,Uebersetzungen!$B$2+1,FALSE) -> Region Imboden | B33: 6013 | C33: 3261 | D33: 2169 | E33: 353 | F33: 230 | G33: 1206 | H33: 1910 | I33: 1337 | J33: 1560
A34: Bonaduz | B34: 783 | C34: 475 | D34: 238 | E34: 43 | F34: 27 | G34: 125 | H34: 176 | I34: 217 | J34: 265
A35: Domat/Ems | B35: 1578 | C35: 886 | D35: 543 | E35: 95 | F35: 54 | G35: 203 | H35: 552 | I35: 366 | J35: 457
A36: Rhäzüns | B36: 471 | C36: 334 | D36: 107 | E36: 15 | F36: 15 | G36: 117 | H36: 109 | I36: 98 | J36: 147
A37: Felsberg | B37: 617 | C37: 353 | D37: 229 | E37: 28 | F37: 7 | G37: 112 | H37: 163 | I37: 161 | J37: 181
A38: Flims | B38: 1420 | C38: 531 | D38: 735 | E38: 62 | F38: 92 | G38: 230 | H38: 602 | I38: 307 | J38: 281
A39: Tamins | B39: 480 | C39: 307 | D39: 96 | E39: 57 | F39: 20 | G39: 200 | H39: 142 | I39: 78 | J39: 60
A40: Trin | B40: 664 | C40: 375 | D40: 221 | E40: 53 | F40: 15 | G40: 219 | H40: 166 | I40: 110 | J40: 169
A41: =VLOOKUP("<Zeilentitel_6>",Uebersetzungen!$B$3:$E$107,Uebersetzungen!$B$2+1,FALSE) -> Region Landquart | B41: 6034 | C41: 3410 | D41: 1827 | E41: 511 | F41: 286 | G41: 1401 | H41: 1459 | I41: 1821 | J41: 1353
A42: Trimmis | B42: 825 | C42: 471 | D42: 279 | E42: 38 | F42: 37 | G42: 156 | H42: 221 | I42: 290 | J42: 158
A43: Untervaz | B43: 840 | C43: 515 | D43: 216 | E43: 56 | F43: 53 | G43: 251 | H43: 169 | I43: 212 | J43: 208
A44: Zizers | B44: 852 | C44: 471 | D44: 246 | E44: 92 | F44: 43 | G44: 125 | H44: 279 | I44: 255 | J44: 193
A45: Fläsch | B45: 247 | C45: 126 | D45: 79 | E45: 28 | F45: 14 | G45: 74 | H45: 30 | I45: 67 | J45: 76
A46: Jenins | B46: 281 | C46: 147 | D46: 88 | E46: 40 | F46: 6 | G46: 85 | H46: 64 | I46: 68 | J46: 64
A47: Maienfeld | B47: 770 | C47: 374 | D47: 244 | E47: 109 | F47: 43 | G47: 249 | H47: 133 | I47: 205 | J47: 183
A48: Malans | B48: 626 | C48: 357 | D48: 211 | E48: 36 | F48: 22 | G48: 177 | H48: 152 | I48: 166 | J48: 131
A49: Landquart | B49: 1593 | C49: 949 | D49: 464 | E49: 112 | F49: 68 | G49: 284 | H49: 411 | I49: 558 | J49: 340
A50: =VLOOKUP("<Zeilentitel_7>",Uebersetzungen!$B$3:$E$107,Uebersetzungen!$B$2+1,FALSE) -> Region Maloja | B50: 6125 | C50: 2150 | D50: 2794 | E50: 591 | F50: 590 | G50: 2081 | H50: 1831 | I50: 1223 | J50: 990
A51: Bever | B51: 215 | C51: 71 | D51: 98 | E51: 20 | F51: 26 | G51: 65 | H51: 46 | I51: 67 | J51: 37
A52: Celerina/Schlarigna | B52: 491 | C52: 71 | D52: 332 | E52: 42 | F52: 46 | G52: 123 | H52: 161 | I52: 109 | J52: 98
A53: Madulain | B53: 114 | C53: 33 | D53: 60 | E53: 10 | F53: 11 | G53: 24 | H53: 20 | I53: 51 | J53: 19
A54: Pontresina | B54: 537 | C54: 102 | D54: 326 | E54: 64 | F54: 45 | G54: 127 | H54: 174 | I54: 129 | J54: 107
A55: La Punt Chamues-ch | B55: 342 | C55: 109 | D55: 186 | E55: 29 | F55: 18 | G55: 60 | H55: 124 | I55: 88 | J55: 70
A56: Samedan | B56: 609 | C56: 110 | D56: 382 | E56: 44 | F56: 73 | G56: 148 | H56: 217 | I56: 127 | J56: 117
A57: St. Moritz | B57: 933 | C57: 244 | D57: 437 | E57: 128 | F57: 124 | G57: 230 | H57: 350 | I57: 158 | J57: 195
A58: S-chanf | B58: 320 | C58: 144 | D58: 105 | E58: 46 | F58: 25 | G58: 153 | H58: 65 | I58: 52 | J58: 50
A59: Sils im Engadin/Segl | B59: 346 | C59: 125 | D59: 130 | E59: 37 | F59: 54 | G59: 155 | H59: 100 | I59: 56 | J59: 35
A60: Silvaplana | B60: 416 | C60: 98 | D60: 257 | E60: 34 | F60: 27 | G60: 56 | H60: 178 | I60: 105 | J60: 77
A61: Zuoz | B61: 415 | C61: 92 | D61: 226 | E61: 58 | F61: 39 | G61: 155 | H61: 97 | I61: 84 | J61: 79
A62: Bregaglia | B62: 1387 | C62: 951 | D62: 255 | E62: 79 | F62: 102 | G62: 785 | H62: 299 | I62: 197 | J62: 106
A63: =VLOOKUP("<Zeilentitel_8>",Uebersetzungen!$B$3:$E$107,Uebersetzungen!$B$2+1,FALSE) -> Region Moesa | B63: 5963 | C63: 4518 | D63: 894 | E63: 265 | F63: 286 | G63: 2685 | H63: 1540 | I63: 1049 | J63: 689
A64: Buseno | B64: 191 | C64: 134 | D64: 7 | E64: 9 | F64: 41 | G64: 121 | H64: 34 | I64: 27 | J64: 9
A65: Castaneda | B65: 192 | C65: 154 | D65: 31 | E65: 3 | F65: 4 | G65: 66 | H65: 74 | I65: 39 | J65: 13
A66: Rossa | B66: 333 | C66: 294 | D66: 14 | E66: 10 | F66: 15 | G66: 214 | H66: 45 | I66: 62 | J66: 12
A67: Santa Maria in Calanca | B67: 226 | C67: 191 | D67: 8 | E67: 14 | F67: 13 | G67: 106 | H67: 62 | I67: 48 | J67: 10
A68: Lostallo | B68: 388 | C68: 273 | D68: 78 | E68: 13 | F68: 24 | G68: 102 | H68: 121 | I68: 88 | J68: 77
A69: Mesocco | B69: 1320 | C69: 1006 | D69: 201 | E69: 63 | F69: 50 | G69: 591 | H69: 374 | I69: 243 | J69: 112
A70: Soazza | B70: 235 | C70: 165 | D70: 49 | E70: 6 | F70: 15 | G70: 142 | H70: 49 | I70: 29 | J70: 15
A71: Cama | B71: 329 | C71: 251 | D71: 58 | E71: 6 | F71: 14 | G71: 99 | H71: 91 | I71: 59 | J71: 80
A72: Grono | B72: 616 | C72: 425 | D72: 116 | E72: 47 | F72: 28 | G72: 226 | H72: 165 | I72: 124 | J72: 101
A73: Roveredo (GR) | B73: 1218 | C73: 901 | D73: 224 | E73: 47 | F73: 46 | G73: 523 | H73: 353 | I73: 177 | J73: 165
A74: San Vittore | B74: 411 | C74: 269 | D74: 94 | E74: 26 | F74: 22 | G74: 156 | H74: 91 | I74: 83 | J74: 81
A75: Calanca | B75: 504 | C75: 455 | D75: 14 | E75: 21 | F75: 14 | G75: 339 | H75: 81 | I75: 70 | J75: 14
A76: =VLOOKUP("<Zeilentitel_9>",Uebersetzungen!$B$3:$E$107,Uebersetzungen!$B$2+1,FALSE) -> Region Plessur | B76: 8522 | C76: 4070 | D76: 3140 | E76: 628 | F76: 684 | G76: 2926 | H76: 2790 | I76: 1456 | J76: 1350
A77: Chur | B77: 5069 | C77: 2248 | D77: 2167 | E77: 367 | F77: 287 | G77: 1593 | H77: 1697 | I77: 860 | J77: 919
A78: Churwalden | B78: 1376 | C78: 804 | D78: 365 | E78: 104 | F78: 103 | G78: 444 | H78: 452 | I78: 276 | J78: 204
A79: Arosa | B79: 2077 | C79: 1018 | D79: 608 | E79: 157 | F79: 294 | G79: 889 | H79: 641 | I79: 320 | J79: 227
A80: =VLOOKUP("<Zeilentitel_10>",Uebersetzungen!$B$3:$E$107,Uebersetzungen!$B$2+1,FALSE) -> Region Prättigau/Davos | B80: 11264 | C80: 5587 | D80: 3377 | E80: 1498 | F80: 802 | G80: 4472 | H80: 3144 | I80: 1945 | J80: 1703
A81: Davos | B81: 3008 | C81: 1047 | D81: 1400 | E81: 306 | F81: 255 | G81: 1076 | H81: 1020 | I81: 424 | J81: 488
A82: Fideris | B82: 505 | C82: 267 | D82: 60 | E82: 70 | F82: 108 | G82: 266 | H82: 99 | I82: 80 | J82: 60
A83: Furna | B83: 242 | C83: 130 | D83: 15 | E83: 30 | F83: 67 | G83: 149 | H83: 49 | I83: 22 | J83: 22
A84: Jenaz | B84: 530 | C84: 266 | D84: 107 | E84: 129 | F84: 28 | G84: 276 | H84: 100 | I84: 99 | J84: 55
A85: Klosters | B85: 2410 | C85: 1070 | D85: 965 | E85: 244 | F85: 131 | G85: 809 | H85: 814 | I85: 388 | J85: 399
A86: Conters im Prättigau | B86: 181 | C86: 123 | D86: 33 | E86: 14 | F86: 11 | G86: 97 | H86: 38 | I86: 23 | J86: 23
A87: Küblis | B87: 371 | C87: 223 | D87: 81 | E87: 53 | F87: 14 | G87: 165 | H87: 84 | I87: 79 | J87: 43
A88: Luzein | B88: 1217 | C88: 707 | D88: 171 | E88: 296 | F88: 43 | G88: 577 | H88: 273 | I88: 205 | J88: 162
A89: Grüsch | B89: 1024 | C89: 671 | D89: 183 | E89: 111 | F89: 59 | G89: 371 | H89: 220 | I89: 248 | J89: 185
A90: Schiers | B90: 1064 | C90: 648 | D90: 225 | E90: 128 | F90: 63 | G90: 412 | H90: 279 | I90: 204 | J90: 169
A91: Seewis im Prättigau | B91: 712 | C91: 435 | D91: 137 | E91: 117 | F91: 23 | G91: 274 | H91: 168 | I91: 173 | J91: 97
A92: =VLOOKUP("<Zeilentitel_11>",Uebersetzungen!$B$3:$E$107,Uebersetzungen!$B$2+1,FALSE) -> Region Surselva | B92: 12295 | C92: 5866 | D92: 4404 | E92: 1393 | F92: 632 | G92: 4571 | H92: 3097 | I92: 2696 | J92: 1931
A93: Falera | B93: 429 | C93: 111 | D93: 286 | E93: 21 | F93: 11 | G93: 56 | H93: 92 | I93: 174 | J93: 107
A94: Laax | B94: 936 | C94: 326 | D94: 510 | E94: 79 | F94: 21 | G94: 69 | H94: 402 | I94: 225 | J94: 240
A95: Sagogn | B95: 355 | C95: 171 | D95: 161 | E95: 19 | F95: 4 | G95: 110 | H95: 87 | I95: 80 | J95: 78
A96: Schluein | B96: 244 | C96: 93 | D96: 120 | E96: 20 | F96: 11 | G96: 84 | H96: 35 | I96: 73 | J96: 52
A97: Vals | B97: 371 | C97: 125 | D97: 175 | E97: 43 | F97: 28 | G97: 129 | H97: 124 | I97: 68 | J97: 50
A98: Lumnezia | B98: 1411 | C98: 663 | D98: 538 | E98: 165 | F98: 45 | G98: 535 | H98: 259 | I98: 318 | J98: 299
A99: Ilanz/Glion | B99: 1846 | C99: 973 | D99: 552 | E99: 202 | F99: 119 | G99: 732 | H99: 436 | I99: 403 | J99: 275
A100: Safiental | B100: 625 | C100: 341 | D100: 87 | E100: 115 | F100: 82 | G100: 391 | H100: 109 | I100: 70 | J100: 55
A101: Breil/Brigels | B101: 1366 | C101: 737 | D101: 402 | E101: 160 | F101: 67 | G101: 597 | H101: 314 | I101: 246 | J101: 209
A102: Disentis/Mustér | B102: 974 | C102: 445 | D102: 323 | E102: 169 | F102: 37 | G102: 323 | H102: 298 | I102: 221 | J102: 132
A103: Medel (Lucmagn) | B103: 362 | C103: 237 | D103: 49 | E103: 62 | F103: 14 | G103: 184 | H103: 118 | I103: 48 | J103: 12
A104: Sumvitg | B104: 718 | C104: 395 | D104: 165 | E104: 126 | F104: 32 | G104: 394 | H104: 160 | I104: 112 | J104: 52
... A107: Obersaxen Mundaun | B107: 1198 | C107: 566 | D107: 476 | E107: 80 | F107: 76 | G107: 354 | H107: 257 | I107: 388 | J107: 199
A108: =VLOOKUP("<Zeilentitel_12>",Uebersetzungen!$B$3:$E$107,Uebersetzungen!$B$2+1,FALSE) -> Region Viamala | B108: 6124 | C108: 3359 | D108: 1453 | E108: 714 | F108: 598 | G108: 2365 | H108: 1629 | I108: 1109 | J108: 1021
A109: Fürstenau | B109: 124 | C109: 75 | D109: 35 | E109: 8 | F109: 6 | G109: 45 | H109: 17 | I109: 36 | J109: 26
A110: Rothenbrunnen | B110: 107 | C110: 63 | D110: 19 | E110: 14 | F110: 11 | G110: 25 | H110: 29 | I110: 27 | J110: 26
A111: Scharans | B111: 366 | C111: 229 | D111: 87 | E111: 32 | F111: 18 | G111: 143 | H111: 80 | I111: 77 | J111: 66
A112: Sils im Domleschg | B112: 290 | C112: 169 | D112: 89 | E112: 19 | F112: 13 | G112: 101 | H112: 86 | I112: 51 | J112: 52
...

Sheet Uebersetzungen
A1: Tabelle | B1: Code | C1: DE | D1: RM | E1: IT
A2: Sprache | B2: 1
B3: <Fachbereich> | C3: Daten & Statistik | D3: Datas & Statistica | E3: Dati & Statistica
A4: T1 | B4: <Titel> | C4: Gebäude nach Gebäudekategorie und Gemeinde, 2025 | D4: Edifizis tenor categoria da l'edifizi e vischnanca, 2025 | E4: Edifici secondo la categoria dell'edificio e comune, 2025
B5: <UTitel> | C5: (Gemeindestand 2025: 100 Gemeinden) | D5: (stadi communal 2025: 100 vischnancas) | E5: (stato dei comuni 2025: 100 comuni)
B7: <SpaltenTitel_0> | C7: Gebäude mit Wohnnutzung | D7: Edifizis cun utilisaziun per intents d'abitar | E7: Edifici ad uso abitativo
A8: T1-2 | B8: <SpaltenTitel_1> | C8: Total | D8: Total | E8: Totale
B9: <SpaltenTitel_2> | C9: Wohngebäude | D9: Edifizis cun utilisaziun per intents d'abitar | E9: Edifici ad uso abitativo
B10: <SpaltenTitel_3> | C10: Gebäude mit teilweiser Wohnnutzung | D10: Edifizis che utiliseschan per part l' abitaziun | E10: Edifici ad uso parzialmente abitativo
B12: <SpaltenTitel_2.1> | C12: Total | D12: Total | E12: Totale
B13: <SpaltenTitel_2.2> | C13: Reine Wohngebäude | D13: Edifizis cun utilisaziun per intents d'abitar puras | E13: Edifici ad uso unicamente abitativo
B14: <SpaltenTitel_2.2.1> | C14: Total | D14: Total | E14: Totale
B15: <SpaltenTitel_2.2.2> | C15: Einfamilienhäuser | D15: Chasas d'ina famiglia | E15: Case unifamiliari
B16: <SpaltenTitel_2.2.3> | C16: Mehrfamilienhäuser | D16: Chasas da pliras famiglias | E16: Case plurifamiliari
B17: <SpaltenTitel_2.3> | C17: Wohngebäude mit Nebennutzung | D17: Edifizi d'abitar cun utilisaziun secundara | E17: Edifici con utilizzazione accessoria
A19: T1 | B19: <Zeilentitel_1> | C19: GRAUBÜNDEN | D19: GRISCHUN | E19: GRIGIONI
B20: <Zeilentitel_2> | C20: Region Albula | D20: Regiun Alvra | E20: Regione Albula
B21: <Zeilentitel_3> | C21: Region Bernina | D21: Regiun Bernina | E21: Regione Bernina
B22: <Zeilentitel_4> | C22: Region Engiadina Bassa/Val Müstair | D22: Regiun Engiadina Bassa/Val Müstair | E22: Regione Engiadina Bassa/Val Müstair
B23: <Zeilentitel_5> | C23: Region Imboden | D23: Regiun Plaun | E23: Regione Imboden
B24: <Zeilentitel_6> | C24: Region Landquart | D24: Regiun Landquart | E24: Regione Landquart
B25: <Zeilentitel_7> | C25: Region Maloja | D25: Regiun Malögia | E25: Regione Maloja
B26: <Zeilentitel_8> | C26: Region Moesa | D26: Regiun Moesa | E26: Regione Moesa
B27: <Zeilentitel_9> | C27: Region Plessur | D27: Regiun Plessur | E27: Regione Plessur
B28: <Zeilentitel_10> | C28: Region Prättigau/Davos | D28: Regiun Partenz/Tavau | E28: Regione Prättigau/Davos
B29: <Zeilentitel_11> | C29: Region Surselva | D29: Regiun Surselva | E29: Regione Surselva
B30: <Zeilentitel_12> | C30: Region Viamala | D30: Regiun Viamala | E30: Regione Viamala
B32: <Legende_1> | C32: Um die Auswertung der Daten zu erleichtern, wurden fehlende Werte in der GWS statistisch eingesetzt. Bei kleinräumigen Auswertungen kann deshalb nicht ausgeschlossen werden, dass diese Ergänzungen zu Verzerrungen führen. Kleinräumige Analysen sind demzufolge mit Vorsicht zu interpretieren. | D32: Per facilitar l'evaluaziun da las datas s'ha la statistica applitgada en il SEA valurs che mancan. En cas d'evaluaziuns cun pitschens spazis na pon ins perquai betg excluder che questas cumplettaziuns chaschunian sfalsificaziuns. Analisas pitschnas ston perquai vegnir interpretadas cun precauziun. | E32: Per facilitare l'interpretazione dei dati, i valori mancanti sono stati utilizzati statisticamente nella SEA. Pertanto, nel caso di valutazioni su scala ridotta, non si può escludere che tali aggiunte possano comportare distorsioni. Pertanto, le analisi su scala ridotta devono essere interpretate con cautela.
B33: <Legende_2>
A35: T1-2 | B35: <Quelle_1> | C35: Quelle: BFS (Gebäude- und Wohnungsstatistik) | D35: Funtauna: UST (Statistica dals edifizis e da las abitaziuns) | E35: Fonte: UST (Statistica degli edifici e delle abitazioni)
A36: T1 | B36: <Aktualisierung> | C36: Letztmals aktualisiert am: 15.09.2026 | D36: Ultima actualisaziun: 15.09.2026 | E36: Ultimo aggiornamento: 15.09.2026
A39: T2 | B39: <T2Titel> | C39: Gebäude nach Kategorie, Bauperiode und Gemeinde, 2025 | D39: Edifizis tenor categoria, perioda da construcziun e vischnanca, 2025 | E39: Edifici secondo la categoria, l'epoca di costruzione e comune, 2025
B40: <T2UTitel> | C40: (Gemeindestand 2025: 100 Gemeinden) | D40: (stadi communal 2025: 100 vischnancas) | E40: (stato dei comuni 2025: 100 comuni)
B43: <T2SpaltenTitel_1> | C43: Gebäude mit Wohnnutzung | D43: Edifizis cun utilisaziun per intents d'abitar | E43: Edifici ad uso abitativo
A44: T1-2 | B44: <T2SpaltenTitel_2> | C44: Gebäudekategorie | D44: Categoria da l'edifizi | E44: Categoria dell'edificio
B45: <T2SpaltenTitel_3> | C45: Bauperiode | D45: Perioda da construcziun | E45: Epoca di costruzione
B47: <T2SpaltenTitel_2.1> | C47: Einfamilienhäuser | D47: Chasas d'ina famiglia | E47: Case unifamiliari
B48: <T2SpaltenTitel_2.2> | C48: Mehrfamilienhäuser | D48: Chasas da pliras famiglias | E48: Case plurifamiliari
B49: <T2SpaltenTitel_2.3> | C49: Wohngebäude mit Nebennutzung | D49: Edifizi d'abitar cun utilisaziun secundara | E49: Edifici con utilizzazione accessoria
B50: <T2SpaltenTitel_2.4> | C50: Gebäude mit teilweiser Wohnnutzung | D50: Edifizis che utiliseschan per part l' abitaziun | E50: Edifici ad uso parzialmente abitativo
B51: <T2SpaltenTitel_3.1> | C51: vor 1946 | D51: avant l'onn 1946 | E51: Prima del 1946
B52: <T2SpaltenTitel_3.2> | C52: 1946-1980 | D52: 1946-1980 | E52: 1946-1980
B53: <T2SpaltenTitel_3.3> | C53: 1981-2000 | D53: 1981-2000 | E53: 1981-2000
B54: <T2SpaltenTitel_3.4> | C54: 2001-2025 | D54: 2001-2025 | E54: 2001-2025
